Package: PCAN Version: 1.36.0 Command: /Library/Frameworks/R.framework/Resources/bin/R CMD INSTALL PCAN StartedAt: 2025-10-13 15:13:49 -0400 (Mon, 13 Oct 2025) EndedAt: 2025-10-13 15:13:52 -0400 (Mon, 13 Oct 2025) EllapsedTime: 3.5 seconds RetCode: 0 Status: OK