Package: PCAN Version: 1.36.0 Command: /Library/Frameworks/R.framework/Resources/bin/R CMD check --install=check:PCAN.install-out.txt --library=/Library/Frameworks/R.framework/Resources/library --no-vignettes --timings PCAN_1.36.0.tar.gz StartedAt: 2025-10-15 07:08:12 -0400 (Wed, 15 Oct 2025) EndedAt: 2025-10-15 07:12:29 -0400 (Wed, 15 Oct 2025) EllapsedTime: 256.8 seconds RetCode: 0 Status: OK CheckDir: PCAN.Rcheck Warnings: 0