Package: PANR Version: 1.54.0 Command: E:\biocbuild\bbs-3.21-bioc\R\bin\R.exe CMD check --no-multiarch --install=check:PANR.install-out.txt --library=E:\biocbuild\bbs-3.21-bioc\R\library --no-vignettes --timings PANR_1.54.0.tar.gz StartedAt: 2025-08-15 05:12:43 -0400 (Fri, 15 Aug 2025) EndedAt: 2025-08-15 05:14:23 -0400 (Fri, 15 Aug 2025) EllapsedTime: 99.7 seconds RetCode: 0 Status: OK CheckDir: PANR.Rcheck Warnings: 0