Package: PANR Version: 1.54.0 Command: /Library/Frameworks/R.framework/Resources/bin/R CMD INSTALL PANR StartedAt: 2025-09-29 15:21:48 -0400 (Mon, 29 Sep 2025) EndedAt: 2025-09-29 15:22:00 -0400 (Mon, 29 Sep 2025) EllapsedTime: 12.0 seconds RetCode: 0 Status: OK