Package: PANR Version: 1.54.0 Command: /Library/Frameworks/R.framework/Resources/bin/R CMD check --install=check:PANR.install-out.txt --library=/Library/Frameworks/R.framework/Resources/library --no-vignettes --timings PANR_1.54.0.tar.gz StartedAt: 2025-10-01 06:52:56 -0400 (Wed, 01 Oct 2025) EndedAt: 2025-10-01 06:53:54 -0400 (Wed, 01 Oct 2025) EllapsedTime: 57.3 seconds RetCode: 0 Status: OK CheckDir: PANR.Rcheck Warnings: 0