Package: PANR Version: 1.54.0 Command: /Library/Frameworks/R.framework/Resources/bin/R CMD build --keep-empty-dirs --no-resave-data PANR StartedAt: 2025-09-30 06:16:43 -0400 (Tue, 30 Sep 2025) EndedAt: 2025-09-30 06:17:03 -0400 (Tue, 30 Sep 2025) EllapsedTime: 19.2 seconds RetCode: 0 Status: OK PackageFile: PANR_1.54.0.tar.gz PackageFileSize: 2.113 MiB