Package: PANR Version: 1.54.0 Command: rm -rf PANR.buildbin-libdir && mkdir PANR.buildbin-libdir && /Users/biocbuild/BBS/utils/build-universal.sh PANR_1.54.0.tar.gz /Library/Frameworks/R.framework/Resources/bin/R PANR.buildbin-libdir StartedAt: 2025-10-01 19:43:12 -0400 (Wed, 01 Oct 2025) EndedAt: 2025-10-01 19:43:21 -0400 (Wed, 01 Oct 2025) EllapsedTime: 9.1 seconds RetCode: 0 Status: OK PackageFile: PANR_1.54.0.tgz PackageFileSize: 2.138 MiB