Package: PAIRADISE Version: 1.24.1 Command: /home/biocbuild/R/R/bin/R CMD check --install=check:PAIRADISE.install-out.txt --library=/home/biocbuild/R/R/site-library --no-vignettes --timings PAIRADISE_1.24.1.tar.gz StartedAt: 2025-09-30 12:43:42 -0000 (Tue, 30 Sep 2025) EndedAt: 2025-09-30 12:48:14 -0000 (Tue, 30 Sep 2025) EllapsedTime: 271.8 seconds RetCode: 0 Status: OK CheckDir: PAIRADISE.Rcheck Warnings: 0