Package: PADOG Version: 1.50.0 Command: chmod a+r PADOG -R && E:\biocbuild\bbs-3.21-bioc\R\bin\R.exe CMD build --keep-empty-dirs --no-resave-data PADOG StartedAt: 2025-08-14 21:05:28 -0400 (Thu, 14 Aug 2025) EndedAt: 2025-08-14 21:08:31 -0400 (Thu, 14 Aug 2025) EllapsedTime: 183.8 seconds RetCode: 0 Status: OK PackageFile: PADOG_1.50.0.tar.gz PackageFileSize: 237.2 KiB