Package: PAA Version: 1.42.0 Command: /home/biocbuild/bbs-3.21-bioc/R/bin/R CMD check --install=check:PAA.install-out.txt --library=/home/biocbuild/bbs-3.21-bioc/R/site-library --timings PAA_1.42.0.tar.gz StartedAt: 2025-10-16 01:56:02 -0400 (Thu, 16 Oct 2025) EndedAt: 2025-10-16 02:03:13 -0400 (Thu, 16 Oct 2025) EllapsedTime: 431.8 seconds RetCode: 0 Status: OK CheckDir: PAA.Rcheck Warnings: 0