Package: PAA Version: 1.42.0 Command: /Library/Frameworks/R.framework/Resources/bin/R CMD build --keep-empty-dirs --no-resave-data PAA StartedAt: 2025-10-13 21:19:47 -0400 (Mon, 13 Oct 2025) EndedAt: 2025-10-13 21:26:23 -0400 (Mon, 13 Oct 2025) EllapsedTime: 396.6 seconds RetCode: 0 Status: OK PackageFile: PAA_1.42.0.tar.gz PackageFileSize: 3.741 MiB