Package: PAA Version: 1.42.0 Command: /home/biocbuild/R/R/bin/R CMD INSTALL PAA StartedAt: 2025-10-13 21:01:15 -0000 (Mon, 13 Oct 2025) EndedAt: 2025-10-13 21:02:12 -0000 (Mon, 13 Oct 2025) EllapsedTime: 57.7 seconds RetCode: 0 Status: OK