Package: PAA Version: 1.42.0 Command: /Library/Frameworks/R.framework/Resources/bin/R CMD check --install=check:PAA.install-out.txt --library=/Library/Frameworks/R.framework/Resources/library --no-vignettes --timings PAA_1.42.0.tar.gz StartedAt: 2025-10-15 06:48:49 -0400 (Wed, 15 Oct 2025) EndedAt: 2025-10-15 06:52:05 -0400 (Wed, 15 Oct 2025) EllapsedTime: 196.4 seconds RetCode: 0 Status: OK CheckDir: PAA.Rcheck Warnings: 0