Package: PAA Version: 1.42.0 Command: /Library/Frameworks/R.framework/Resources/bin/R CMD build --keep-empty-dirs --no-resave-data PAA StartedAt: 2025-10-14 06:11:10 -0400 (Tue, 14 Oct 2025) EndedAt: 2025-10-14 06:13:33 -0400 (Tue, 14 Oct 2025) EllapsedTime: 142.8 seconds RetCode: 0 Status: OK PackageFile: PAA_1.42.0.tar.gz PackageFileSize: 3.743 MiB