Package: Organism.dplyr Version: 1.36.0 Command: /home/biocbuild/bbs-3.21-bioc/R/bin/R CMD INSTALL Organism.dplyr StartedAt: 2025-10-01 15:41:57 -0400 (Wed, 01 Oct 2025) EndedAt: 2025-10-01 15:42:38 -0400 (Wed, 01 Oct 2025) EllapsedTime: 40.9 seconds RetCode: 0 Status: OK