Package: Organism.dplyr Version: 1.36.0 Command: /home/biocbuild/bbs-3.21-bioc/R/bin/R CMD check --install=check:Organism.dplyr.install-out.txt --library=/home/biocbuild/bbs-3.21-bioc/R/site-library --timings Organism.dplyr_1.36.0.tar.gz StartedAt: 2025-10-02 01:50:52 -0400 (Thu, 02 Oct 2025) EndedAt: 2025-10-02 02:02:43 -0400 (Thu, 02 Oct 2025) EllapsedTime: 711.5 seconds RetCode: 0 Status: OK CheckDir: Organism.dplyr.Rcheck Warnings: 0