Package: Organism.dplyr Version: 1.36.0 Command: /home/biocbuild/bbs-3.21-bioc/R/bin/R CMD build --keep-empty-dirs --no-resave-data Organism.dplyr StartedAt: 2025-10-01 19:02:31 -0400 (Wed, 01 Oct 2025) EndedAt: 2025-10-01 19:03:52 -0400 (Wed, 01 Oct 2025) EllapsedTime: 81.1 seconds RetCode: 0 Status: OK PackageFile: Organism.dplyr_1.36.0.tar.gz PackageFileSize: 578.2 KiB