Package: Organism.dplyr Version: 1.36.0 Command: /Library/Frameworks/R.framework/Resources/bin/R CMD INSTALL Organism.dplyr StartedAt: 2025-10-06 16:07:46 -0400 (Mon, 06 Oct 2025) EndedAt: 2025-10-06 16:09:07 -0400 (Mon, 06 Oct 2025) EllapsedTime: 80.7 seconds RetCode: 0 Status: OK