Package: Organism.dplyr Version: 1.36.0 Command: /Library/Frameworks/R.framework/Resources/bin/R CMD build --keep-empty-dirs --no-resave-data Organism.dplyr StartedAt: 2025-10-06 21:15:27 -0400 (Mon, 06 Oct 2025) EndedAt: 2025-10-06 21:17:58 -0400 (Mon, 06 Oct 2025) EllapsedTime: 151.5 seconds RetCode: 0 Status: OK PackageFile: Organism.dplyr_1.36.0.tar.gz PackageFileSize: 527.4 KiB