Package: Organism.dplyr Version: 1.36.0 Command: /home/biocbuild/R/R/bin/R CMD INSTALL Organism.dplyr StartedAt: 2025-09-29 20:54:23 -0000 (Mon, 29 Sep 2025) EndedAt: 2025-09-29 20:55:19 -0000 (Mon, 29 Sep 2025) EllapsedTime: 55.8 seconds RetCode: 0 Status: OK