Package: Organism.dplyr Version: 1.36.0 Command: /home/biocbuild/R/R/bin/R CMD check --install=check:Organism.dplyr.install-out.txt --library=/home/biocbuild/R/R/site-library --no-vignettes --timings Organism.dplyr_1.36.0.tar.gz StartedAt: 2025-09-30 12:39:30 -0000 (Tue, 30 Sep 2025) EndedAt: 2025-09-30 12:50:01 -0000 (Tue, 30 Sep 2025) EllapsedTime: 631.2 seconds RetCode: 0 Status: OK CheckDir: Organism.dplyr.Rcheck Warnings: 0