Package: Organism.dplyr Version: 1.36.0 Command: /home/biocbuild/R/R/bin/R CMD build --keep-empty-dirs --no-resave-data Organism.dplyr StartedAt: 2025-09-30 03:54:14 -0000 (Tue, 30 Sep 2025) EndedAt: 2025-09-30 03:56:20 -0000 (Tue, 30 Sep 2025) EllapsedTime: 126.2 seconds RetCode: 0 Status: OK PackageFile: Organism.dplyr_1.36.0.tar.gz PackageFileSize: 559.3 KiB