Package: Organism.dplyr Version: 1.36.0 Command: /Library/Frameworks/R.framework/Resources/bin/R CMD INSTALL Organism.dplyr StartedAt: 2025-09-29 17:23:21 -0400 (Mon, 29 Sep 2025) EndedAt: 2025-09-29 17:24:07 -0400 (Mon, 29 Sep 2025) EllapsedTime: 45.7 seconds RetCode: 0 Status: OK