Package: OrderedList Version: 1.80.0 Command: /Library/Frameworks/R.framework/Resources/bin/R CMD build --keep-empty-dirs --no-resave-data OrderedList StartedAt: 2025-10-13 21:16:56 -0400 (Mon, 13 Oct 2025) EndedAt: 2025-10-13 21:18:51 -0400 (Mon, 13 Oct 2025) EllapsedTime: 114.8 seconds RetCode: 0 Status: OK PackageFile: OrderedList_1.80.0.tar.gz PackageFileSize: 1.051 MiB