Package: OrderedList Version: 1.80.0 Command: rm -rf OrderedList.buildbin-libdir && mkdir OrderedList.buildbin-libdir && /Users/biocbuild/BBS/utils/build-universal.sh OrderedList_1.80.0.tar.gz /Library/Frameworks/R.framework/Resources/bin/R OrderedList.buildbin-libdir StartedAt: 2025-10-14 14:18:53 -0400 (Tue, 14 Oct 2025) EndedAt: 2025-10-14 14:19:05 -0400 (Tue, 14 Oct 2025) EllapsedTime: 12.5 seconds RetCode: 0 Status: OK PackageFile: OrderedList_1.80.0.tgz PackageFileSize: 1.108 MiB