Package: OrderedList Version: 1.80.0 Command: rm -rf OrderedList.buildbin-libdir && mkdir OrderedList.buildbin-libdir && /Users/biocbuild/BBS/utils/build-universal.sh OrderedList_1.80.0.tar.gz /Library/Frameworks/R.framework/Resources/bin/R OrderedList.buildbin-libdir StartedAt: 2025-04-22 00:59:05 -0400 (Tue, 22 Apr 2025) EndedAt: 2025-04-22 00:59:13 -0400 (Tue, 22 Apr 2025) EllapsedTime: 8.0 seconds RetCode: 0 Status: OK PackageFile: OrderedList_1.80.0.tgz PackageFileSize: 1.107 MiB