Package: OrderedList Version: 1.80.0 Command: /Library/Frameworks/R.framework/Resources/bin/R CMD build --keep-empty-dirs --no-resave-data OrderedList StartedAt: 2025-10-14 06:02:54 -0400 (Tue, 14 Oct 2025) EndedAt: 2025-10-14 06:04:40 -0400 (Tue, 14 Oct 2025) EllapsedTime: 106.2 seconds RetCode: 0 Status: OK PackageFile: OrderedList_1.80.0.tar.gz PackageFileSize: 1.049 MiB