Package: OrderedList Version: 1.80.0 Command: rm -rf OrderedList.buildbin-libdir && mkdir OrderedList.buildbin-libdir && /Users/biocbuild/BBS/utils/build-universal.sh OrderedList_1.80.0.tar.gz /Library/Frameworks/R.framework/Resources/bin/R OrderedList.buildbin-libdir StartedAt: 2025-10-15 19:41:50 -0400 (Wed, 15 Oct 2025) EndedAt: 2025-10-15 19:41:56 -0400 (Wed, 15 Oct 2025) EllapsedTime: 5.7 seconds RetCode: 0 Status: OK PackageFile: OrderedList_1.80.0.tgz PackageFileSize: 1.106 MiB