Package: OmnipathR Version: 3.16.0 Command: chmod a+r OmnipathR -R && E:\biocbuild\bbs-3.21-bioc\R\bin\R.exe CMD build --keep-empty-dirs --no-resave-data OmnipathR StartedAt: 2025-08-14 20:56:46 -0400 (Thu, 14 Aug 2025) EndedAt: 2025-08-14 21:12:47 -0400 (Thu, 14 Aug 2025) EllapsedTime: 961.3 seconds RetCode: 0 Status: OK PackageFile: OmnipathR_3.16.0.tar.gz PackageFileSize: 3.205 MiB