Package: OmnipathR Version: 3.16.2 Command: /Library/Frameworks/R.framework/Resources/bin/R CMD check --install=check:OmnipathR.install-out.txt --library=/Library/Frameworks/R.framework/Resources/library --no-vignettes --timings OmnipathR_3.16.2.tar.gz StartedAt: 2025-10-14 07:41:29 -0400 (Tue, 14 Oct 2025) EndedAt: 2025-10-14 08:18:05 -0400 (Tue, 14 Oct 2025) EllapsedTime: 2196.1 seconds RetCode: 0 Status: OK CheckDir: OmnipathR.Rcheck Warnings: 0