Package: OmnipathR Version: 3.16.2 Command: /Library/Frameworks/R.framework/Resources/bin/R CMD build --keep-empty-dirs --no-resave-data OmnipathR StartedAt: 2025-10-13 21:14:08 -0400 (Mon, 13 Oct 2025) EndedAt: 2025-10-13 21:52:31 -0400 (Mon, 13 Oct 2025) EllapsedTime: 2303.0 seconds RetCode: 0 Status: OK PackageFile: OmnipathR_3.16.2.tar.gz PackageFileSize: 3.587 MiB