Package: OmnipathR Version: 3.16.2 Command: rm -rf OmnipathR.buildbin-libdir && mkdir OmnipathR.buildbin-libdir && /Users/biocbuild/BBS/utils/build-universal.sh OmnipathR_3.16.2.tar.gz /Library/Frameworks/R.framework/Resources/bin/R OmnipathR.buildbin-libdir StartedAt: 2025-10-14 14:17:58 -0400 (Tue, 14 Oct 2025) EndedAt: 2025-10-14 14:19:01 -0400 (Tue, 14 Oct 2025) EllapsedTime: 63.1 seconds RetCode: 0 Status: OK PackageFile: OmnipathR_3.16.2.tgz PackageFileSize: 3.68 MiB