Package: OmnipathR Version: 3.16.0 Command: rm -rf OmnipathR.buildbin-libdir && mkdir OmnipathR.buildbin-libdir && /Users/biocbuild/BBS/utils/build-universal.sh OmnipathR_3.16.0.tar.gz /Library/Frameworks/R.framework/Resources/bin/R OmnipathR.buildbin-libdir StartedAt: 2025-04-22 00:58:49 -0400 (Tue, 22 Apr 2025) EndedAt: 2025-04-22 00:59:21 -0400 (Tue, 22 Apr 2025) EllapsedTime: 32.3 seconds RetCode: 0 Status: OK PackageFile: OmnipathR_3.16.0.tgz PackageFileSize: 3.718 MiB