Package: OmnipathR Version: 3.16.2 Command: /home/biocbuild/R/R/bin/R CMD INSTALL OmnipathR StartedAt: 2025-10-13 20:19:56 -0000 (Mon, 13 Oct 2025) EndedAt: 2025-10-13 20:20:24 -0000 (Mon, 13 Oct 2025) EllapsedTime: 27.7 seconds RetCode: 0 Status: OK