Package: OmnipathR Version: 3.16.2 Command: /home/biocbuild/R/R/bin/R CMD build --keep-empty-dirs --no-resave-data OmnipathR StartedAt: 2025-10-14 03:11:30 -0000 (Tue, 14 Oct 2025) EndedAt: 2025-10-14 03:33:27 -0000 (Tue, 14 Oct 2025) EllapsedTime: 1317.0 seconds RetCode: 0 Status: OK PackageFile: OmnipathR_3.16.2.tar.gz PackageFileSize: 3.684 MiB