Package: OmnipathR Version: 3.16.2 Command: /Library/Frameworks/R.framework/Resources/bin/R CMD INSTALL OmnipathR StartedAt: 2025-10-13 15:23:32 -0400 (Mon, 13 Oct 2025) EndedAt: 2025-10-13 15:23:54 -0400 (Mon, 13 Oct 2025) EllapsedTime: 22.0 seconds RetCode: 0 Status: OK