Package: OmaDB Version: 2.24.0 Command: E:\biocbuild\bbs-3.21-bioc\R\bin\R.exe CMD check --no-multiarch --install=check:OmaDB.install-out.txt --library=E:\biocbuild\bbs-3.21-bioc\R\library --no-vignettes --timings OmaDB_2.24.0.tar.gz StartedAt: 2025-08-15 04:58:59 -0400 (Fri, 15 Aug 2025) EndedAt: 2025-08-15 05:15:46 -0400 (Fri, 15 Aug 2025) EllapsedTime: 1006.8 seconds RetCode: 0 Status: OK CheckDir: OmaDB.Rcheck Warnings: 0