Package: OmaDB Version: 2.24.0 Command: /home/biocbuild/bbs-3.21-bioc/R/bin/R CMD INSTALL OmaDB StartedAt: 2025-10-05 15:38:44 -0400 (Sun, 05 Oct 2025) EndedAt: 2025-10-05 15:39:01 -0400 (Sun, 05 Oct 2025) EllapsedTime: 16.6 seconds RetCode: 0 Status: OK