Package: OmaDB Version: 2.24.0 Command: /home/biocbuild/bbs-3.21-bioc/R/bin/R CMD check --install=check:OmaDB.install-out.txt --library=/home/biocbuild/bbs-3.21-bioc/R/site-library --timings OmaDB_2.24.0.tar.gz StartedAt: 2025-10-06 01:45:39 -0400 (Mon, 06 Oct 2025) EndedAt: 2025-10-06 01:56:05 -0400 (Mon, 06 Oct 2025) EllapsedTime: 626.1 seconds RetCode: 1 Status: ERROR CheckDir: OmaDB.Rcheck Warnings: NA