Package: OmaDB Version: 2.24.0 Command: /Library/Frameworks/R.framework/Resources/bin/R CMD check --install=check:OmaDB.install-out.txt --library=/Library/Frameworks/R.framework/Resources/library --no-vignettes --timings OmaDB_2.24.0.tar.gz StartedAt: 2025-10-14 07:37:46 -0400 (Tue, 14 Oct 2025) EndedAt: 2025-10-14 07:57:01 -0400 (Tue, 14 Oct 2025) EllapsedTime: 1154.8 seconds RetCode: 0 Status: OK CheckDir: OmaDB.Rcheck Warnings: 0