Package: OmaDB Version: 2.24.0 Command: rm -rf OmaDB.buildbin-libdir && mkdir OmaDB.buildbin-libdir && /Users/biocbuild/BBS/utils/build-universal.sh OmaDB_2.24.0.tar.gz /Library/Frameworks/R.framework/Resources/bin/R OmaDB.buildbin-libdir StartedAt: 2025-10-14 14:17:27 -0400 (Tue, 14 Oct 2025) EndedAt: 2025-10-14 14:18:12 -0400 (Tue, 14 Oct 2025) EllapsedTime: 44.9 seconds RetCode: 0 Status: OK PackageFile: OmaDB_2.24.0.tgz PackageFileSize: 178.5 KiB