Package: OmaDB Version: 2.24.0 Command: /home/biocbuild/R/R/bin/R CMD INSTALL OmaDB StartedAt: 2025-09-29 21:02:51 -0000 (Mon, 29 Sep 2025) EndedAt: 2025-09-29 21:03:14 -0000 (Mon, 29 Sep 2025) EllapsedTime: 22.8 seconds RetCode: 0 Status: OK