Package: OmaDB Version: 2.24.0 Command: /Library/Frameworks/R.framework/Resources/bin/R CMD check --install=check:OmaDB.install-out.txt --library=/Library/Frameworks/R.framework/Resources/library --no-vignettes --timings OmaDB_2.24.0.tar.gz StartedAt: 2025-10-15 06:17:13 -0400 (Wed, 15 Oct 2025) EndedAt: 2025-10-15 06:29:22 -0400 (Wed, 15 Oct 2025) EllapsedTime: 729.4 seconds RetCode: 0 Status: OK CheckDir: OmaDB.Rcheck Warnings: 0