Package: OVESEG Version: 1.24.0 Command: /Library/Frameworks/R.framework/Resources/bin/R CMD build --keep-empty-dirs --no-resave-data OVESEG StartedAt: 2025-10-13 21:19:19 -0400 (Mon, 13 Oct 2025) EndedAt: 2025-10-13 21:36:06 -0400 (Mon, 13 Oct 2025) EllapsedTime: 1006.7 seconds RetCode: 0 Status: OK PackageFile: OVESEG_1.24.0.tar.gz PackageFileSize: 796.6 KiB