Package: OVESEG Version: 1.24.0 Command: /Library/Frameworks/R.framework/Resources/bin/R CMD check --install=check:OVESEG.install-out.txt --library=/Library/Frameworks/R.framework/Resources/library --no-vignettes --timings OVESEG_1.24.0.tar.gz StartedAt: 2025-04-21 22:27:05 -0400 (Mon, 21 Apr 2025) EndedAt: 2025-04-21 22:28:31 -0400 (Mon, 21 Apr 2025) EllapsedTime: 86.0 seconds RetCode: 0 Status: OK CheckDir: OVESEG.Rcheck Warnings: 0