Package: OVESEG Version: 1.24.0 Command: rm -rf OVESEG.buildbin-libdir && mkdir OVESEG.buildbin-libdir && /Users/biocbuild/BBS/utils/build-universal.sh OVESEG_1.24.0.tar.gz /Library/Frameworks/R.framework/Resources/bin/R OVESEG.buildbin-libdir StartedAt: 2025-04-22 00:59:25 -0400 (Tue, 22 Apr 2025) EndedAt: 2025-04-22 00:59:48 -0400 (Tue, 22 Apr 2025) EllapsedTime: 23.2 seconds RetCode: 0 Status: OK PackageFile: OVESEG_1.24.0.tgz PackageFileSize: 876.3 KiB