Package: OVESEG Version: 1.24.0 Command: /Library/Frameworks/R.framework/Resources/bin/R CMD build --keep-empty-dirs --no-resave-data OVESEG StartedAt: 2025-04-21 17:12:24 -0400 (Mon, 21 Apr 2025) EndedAt: 2025-04-21 17:14:26 -0400 (Mon, 21 Apr 2025) EllapsedTime: 121.4 seconds RetCode: 0 Status: OK PackageFile: OVESEG_1.24.0.tar.gz PackageFileSize: 796.8 KiB