Package: OUTRIDER Version: 1.26.3 Command: /home/biocbuild/bbs-3.21-bioc/R/bin/R CMD INSTALL OUTRIDER StartedAt: 2025-10-15 15:40:14 -0400 (Wed, 15 Oct 2025) EndedAt: 2025-10-15 15:41:14 -0400 (Wed, 15 Oct 2025) EllapsedTime: 60.5 seconds RetCode: 0 Status: OK