Package: OUTRIDER Version: 1.26.3 Command: /home/biocbuild/bbs-3.21-bioc/R/bin/R CMD check --install=check:OUTRIDER.install-out.txt --library=/home/biocbuild/bbs-3.21-bioc/R/site-library --timings OUTRIDER_1.26.3.tar.gz StartedAt: 2025-10-16 01:55:28 -0400 (Thu, 16 Oct 2025) EndedAt: 2025-10-16 02:10:56 -0400 (Thu, 16 Oct 2025) EllapsedTime: 927.8 seconds RetCode: 0 Status: OK CheckDir: OUTRIDER.Rcheck Warnings: 0