Package: OUTRIDER Version: 1.26.3 Command: /home/biocbuild/bbs-3.21-bioc/R/bin/R CMD build --keep-empty-dirs --no-resave-data OUTRIDER StartedAt: 2025-10-15 19:00:35 -0400 (Wed, 15 Oct 2025) EndedAt: 2025-10-15 19:07:09 -0400 (Wed, 15 Oct 2025) EllapsedTime: 393.5 seconds RetCode: 0 Status: OK PackageFile: OUTRIDER_1.26.3.tar.gz PackageFileSize: 2.607 MiB